BEGIN:VCALENDAR
VERSION:2.0
PRODID:-//ExpressionEngine Easy iCalendar plugin//NONSGML v2.0.1//EN
X-WR-TIMEZONE:America/New_York
X-WR-CALNAME:Upcoming Auctions
BEGIN:VEVENT
UID:128612
DTSTAMP:20241106T160000
DTSTART:20241106T160000
DTEND:20241106T170000
SUMMARY:SOLD PRIOR TO AUCTION! 940 Wentworth Ave
LOCATION:940 Wentworth Ave\, Holland\, OH 43528\, US
DESCRIPTION:SOLD PRIOR TO AUCTION!
URL:https://www.amlinauctions.com/auctions/detail/bw128612
SEQUENCE:1
END:VEVENT
END:VCALENDAR